BEGIN:VCALENDAR
VERSION:2.0
PRODID:-//eventon.com NONSGML v1.0//EN
CALSCALE:GREGORIAN
METHOD:PUBLISH
BEGIN:VEVENT
UID:69e7375e0a31b
DTSTAMP:20260421T083750Z
DTSTART:20210213
DTEND:20210214
LOCATION:
SUMMARY:Remote First Aid - Vancouver
DESCRIPTION:Outdoor adventuring is awesome! Coming back safely is even bett
 er. Enter our two day\,  20hr Wilderness + Remote First Aid Course! This co
 urse is designed for weekend warriors\,  scout and guide leaders and wilder
 ness instructors staying closer to help. We add basic shelter construction 
 on top of the normal content[..]\nhttps://ridgefirstaid.com/events/remote-f
 irst-aid-vancouver/
URL:https://ridgefirstaid.com/events/remote-first-aid-vancouver/
END:VEVENT
END:VCALENDAR