BEGIN:VCALENDAR
VERSION:2.0
PRODID:-//eventon.com NONSGML v1.0//EN
CALSCALE:GREGORIAN
METHOD:PUBLISH
BEGIN:VEVENT
UID:69e737f7e16e5
DTSTAMP:20260421T084023Z
DTSTART:20231122
DTEND:20231123
LOCATION:Nanaimo\,  BC
SUMMARY:Wilderness First Aid - Nanaimo
DESCRIPTION:USE CODE &#8216;NANAIMOWFA10&#8217; AT CHECKOUT TO SAVE 10% BEF
 ORE NOVEMBER 15TH! LIMITED SPACES REMAIN. Participants will learn comprehen
 sive first aid and cardiopulmonary resuscitation (CPR) skills\,  as well as
  skills required to plan\,  prevent injury and promote safety for themselve
 s and peers while in a wilderness or remote workplace or community.[..]\nht
 tps://ridgefirstaid.com/events/wilderness-first-aid-nanaimo-2/
URL:https://ridgefirstaid.com/events/wilderness-first-aid-nanaimo-2/
END:VEVENT
END:VCALENDAR