BEGIN:VCALENDAR
VERSION:2.0
PRODID:-//eventon.com NONSGML v1.0//EN
CALSCALE:GREGORIAN
METHOD:PUBLISH
BEGIN:VEVENT
UID:69e7373038dbb
DTSTAMP:20260421T083704Z
DTSTART:20241206
DTEND:20241207
LOCATION:Vancouver\,  BC
SUMMARY:Remote First Aid Recertification - Vancouver
DESCRIPTION:Please ensure your Remote First Aid recertification is complete
 d by attending a comprehensive RFA course to refresh your skills. It is man
 datory for participants to present a valid RFA certificate upon registratio
 n and attend the entire program offering. December 6 6:00 &#8211; 8:00 pm 
 December 7-8 8:30 am &#8211; 6:30 pm each[..]\nhttps://ridgefirstaid.com/e
 vents/remote-first-aid-recertification-vancouver-12/
URL:https://ridgefirstaid.com/events/remote-first-aid-recertification-vancouver-12/
END:VEVENT
END:VCALENDAR