BEGIN:VCALENDAR
VERSION:2.0
PRODID:-//eventon.com NONSGML v1.0//EN
CALSCALE:GREGORIAN
METHOD:PUBLISH
BEGIN:VEVENT
UID:69e7a2c1db7e2
DTSTAMP:20260421T161601Z
DTSTART:20250704
DTEND:20250705
LOCATION:Nanaimo\,  BC
SUMMARY:Remote First Aid - Nanaimo
DESCRIPTION:EARLY BIRD DISCOUNT: REGISTER BY MAY 23rd AND SAVE $30! Discoun
 t automatically applied at checkout. About the Course Prepare yourself for 
 the unexpected in the great outdoors or remote work environments with our R
 emote First Aid &amp; CPR C course. Designed for individuals living\,  work
 ing\,  or adventuring in non-urban areas\, [..]\nhttps://ridgefirstaid.com/
 events/remote-first-aid-nanaimo-14/
URL:https://ridgefirstaid.com/events/remote-first-aid-nanaimo-14/
END:VEVENT
END:VCALENDAR