BEGIN:VCALENDAR
VERSION:2.0
PRODID:-//eventon.com NONSGML v1.0//EN
CALSCALE:GREGORIAN
METHOD:PUBLISH
BEGIN:VEVENT
UID:69e8d7620c697
DTSTAMP:20260422T141250Z
DTSTART:20260517
DTEND:20260518
LOCATION:Prince George\,  BC
SUMMARY:Wilderness First Aid Recertification - Prince George
DESCRIPTION:Wilderness First Aid Recertification (WFA) RECERTIFICATION ONLY
  &#8211; MUST HOLD CURRENT/VALID WFA CERTIFICATE This recertification cours
 e is designed for participants to refresh their comprehensive first aid and
  cardiopulmonary resuscitation (CPR) skills\,  as well as the necessary abi
 lities to plan\,  prevent injury\,  and promote safety in wilderness or rem
 ote work environments.[..]\nhttps://ridgefirstaid.com/events/wilderness-fir
 st-aid-recertification-prince-george/
URL:https://ridgefirstaid.com/events/wilderness-first-aid-recertification-prince-george/
END:VEVENT
END:VCALENDAR